BEGIN:VCALENDAR
VERSION:2.0
PRODID:-//Nature 18 - ECPv6.15.18//NONSGML v1.0//EN
CALSCALE:GREGORIAN
METHOD:PUBLISH
X-WR-CALNAME:Nature 18
X-ORIGINAL-URL:https://www.nature18.org
X-WR-CALDESC:Évènements pour Nature 18
REFRESH-INTERVAL;VALUE=DURATION:PT1H
X-Robots-Tag:noindex
X-PUBLISHED-TTL:PT1H
BEGIN:VTIMEZONE
TZID:UTC
BEGIN:STANDARD
TZOFFSETFROM:+0000
TZOFFSETTO:+0000
TZNAME:UTC
DTSTART:20240101T000000
END:STANDARD
END:VTIMEZONE
BEGIN:VEVENT
DTSTART;TZID=UTC:20250209T100000
DTEND;TZID=UTC:20250209T120000
DTSTAMP:20260422T161003
CREATED:20250201T182934Z
LAST-MODIFIED:20250201T193438Z
UID:756-1739095200-1739102400@www.nature18.org
SUMMARY:Les oiseaux forestiers
DESCRIPTION:Cet ENS abrite de nombreux oiseaux forestiers. Munis de jumelles\, partez à la découverte des pics\, du Geai des chênes et de bien d’autres espèces. \n\n\n\nRendez-vous à 10h sur le parking de l’ENS du Sentier de la Salamandre à VierzonCo-voiturage au départ du local de l’association à 9h20
URL:https://www.nature18.org/evenement/les-oiseaux-forestiers/
LOCATION:ENS du Sentier de la Salamandre\, Sentier de la Salamandre\, Vierzon\, Cher\, 18100\, France
CATEGORIES:Les oiseaux
END:VEVENT
END:VCALENDAR