BEGIN:VCALENDAR
VERSION:2.0
PRODID:-//Nature 18 - ECPv6.15.18//NONSGML v1.0//EN
CALSCALE:GREGORIAN
METHOD:PUBLISH
X-ORIGINAL-URL:https://www.nature18.org
X-WR-CALDESC:Évènements pour Nature 18
REFRESH-INTERVAL;VALUE=DURATION:PT1H
X-Robots-Tag:noindex
X-PUBLISHED-TTL:PT1H
BEGIN:VTIMEZONE
TZID:UTC
BEGIN:STANDARD
TZOFFSETFROM:+0000
TZOFFSETTO:+0000
TZNAME:UTC
DTSTART:20240101T000000
END:STANDARD
END:VTIMEZONE
BEGIN:VEVENT
DTSTART;TZID=UTC:20250219T143000
DTEND;TZID=UTC:20250219T163000
DTSTAMP:20260422T202947
CREATED:20250201T184623Z
LAST-MODIFIED:20250201T193145Z
UID:765-1739975400-1739982600@www.nature18.org
SUMMARY:Les traces du castor
DESCRIPTION:Le temps d’une balade\, venez découvrir la vie fascinante du roi du fleuve : le castor. Apprenez à reconnaître ses traces et ses indices. \n\n\n\nRendez-vous à 14h30 sur le parking de l’ENS des Iles de la Gargaude à Ménétréol-sous-Sancerre \n\n\n\nCo-voiturage au départ du local de l’association à 13h30
URL:https://www.nature18.org/evenement/les-traces-du-castor/
LOCATION:ENS des Îles de la Gargaude\, Sentier des îles de la Gargaude\, Ménétréol-sous-Sancerre\, Cher\, 18300\, France
CATEGORIES:Les petites bêtes
END:VEVENT
END:VCALENDAR