BEGIN:VCALENDAR
VERSION:2.0
PRODID:-//Nature 18 - ECPv6.15.18//NONSGML v1.0//EN
CALSCALE:GREGORIAN
METHOD:PUBLISH
X-ORIGINAL-URL:https://www.nature18.org
X-WR-CALDESC:Évènements pour Nature 18
REFRESH-INTERVAL;VALUE=DURATION:PT1H
X-Robots-Tag:noindex
X-PUBLISHED-TTL:PT1H
BEGIN:VTIMEZONE
TZID:UTC
BEGIN:STANDARD
TZOFFSETFROM:+0000
TZOFFSETTO:+0000
TZNAME:UTC
DTSTART:20240101T000000
END:STANDARD
END:VTIMEZONE
BEGIN:VEVENT
DTSTART;TZID=UTC:20250220T200000
DTEND;TZID=UTC:20250220T220000
DTSTAMP:20260422T205557
CREATED:20250201T185654Z
LAST-MODIFIED:20250201T193044Z
UID:767-1740081600-1740088800@www.nature18.org
SUMMARY:Conférence sur l’arbre et la haie
DESCRIPTION:Quelle est la haie idéale pour la biodiversité ? Comment la planter pour qu’elle soit durable ? Quelles essences favoriser ?Découvrez tout le potentiel de la haie champêtre qui façonne nos paysages. \n\n\n\nRendez-vous à 20h au complexe sportif de BoulleretCo-voiturage au départ du local de l’association à 19h
URL:https://www.nature18.org/evenement/conference-sur-larbre-et-la-haie/
LOCATION:Complexe sportif de Boulleret\, Salle des Sports\, Boulleret\, Cher\, 18240\, France
CATEGORIES:La botanique
END:VEVENT
END:VCALENDAR