BEGIN:VCALENDAR
VERSION:2.0
PRODID:-//Nature 18 - ECPv6.15.18//NONSGML v1.0//EN
CALSCALE:GREGORIAN
METHOD:PUBLISH
X-ORIGINAL-URL:https://www.nature18.org
X-WR-CALDESC:Évènements pour Nature 18
REFRESH-INTERVAL;VALUE=DURATION:PT1H
X-Robots-Tag:noindex
X-PUBLISHED-TTL:PT1H
BEGIN:VTIMEZONE
TZID:UTC
BEGIN:STANDARD
TZOFFSETFROM:+0000
TZOFFSETTO:+0000
TZNAME:UTC
DTSTART:20240101T000000
END:STANDARD
END:VTIMEZONE
BEGIN:VEVENT
DTSTART;TZID=UTC:20250604T180000
DTEND;TZID=UTC:20250604T193000
DTSTAMP:20260422T084239
CREATED:20250309T110232Z
LAST-MODIFIED:20250309T111758Z
UID:930-1749060000-1749065400@www.nature18.org
SUMMARY:Atelier construction d'Oyas
DESCRIPTION:Limité à 12 personnes - Inscription obligatoire - Priorité aux habitants de la commune \n\n\n\nVenez participer à cet atelier de construction d’Oyas en mode « récup » ; l’oya permet un système d’irrigation grâce à une structure en terre poreuse enterrée qui laisse migrer l’humidité vers les plantes. \n\n\n\nRendez-vous à 18h00 à Boulleret – Lieu précis communiqué à l’inscription.Co-voiturage au départ du local de l’association à 17h00.
URL:https://www.nature18.org/evenement/atelier-construction-doyas-2/
CATEGORIES:J'agis à la maison
END:VEVENT
END:VCALENDAR