BEGIN:VCALENDAR
VERSION:2.0
PRODID:-//Nature 18 - ECPv6.15.18//NONSGML v1.0//EN
CALSCALE:GREGORIAN
METHOD:PUBLISH
X-ORIGINAL-URL:https://www.nature18.org
X-WR-CALDESC:Évènements pour Nature 18
REFRESH-INTERVAL;VALUE=DURATION:PT1H
X-Robots-Tag:noindex
X-PUBLISHED-TTL:PT1H
BEGIN:VTIMEZONE
TZID:UTC
BEGIN:STANDARD
TZOFFSETFROM:+0000
TZOFFSETTO:+0000
TZNAME:UTC
DTSTART:20250101T000000
END:STANDARD
END:VTIMEZONE
BEGIN:VEVENT
DTSTART;TZID=UTC:20260114T180000
DTEND;TZID=UTC:20260114T200000
DTSTAMP:20260422T091805
CREATED:20260107T085903Z
LAST-MODIFIED:20260107T091151Z
UID:1130-1768413600-1768420800@www.nature18.org
SUMMARY:Atelier zéro déchet : produits ménagers
DESCRIPTION:Quoi de mieux que de commencer l'année avec un atelier utile et respectueux de l'environnement ?  \n\n\n\nEn compagnie de Justine\, vous aller pouvoir fabriquer vos propres produits ménagers de manière naturelle. Pensez à ramener vos contenants.  \n\n\n\nRéservation obligatoire par téléphone au 02.48.70.76.26 ou par courriel à contact@nature18.org
URL:https://www.nature18.org/evenement/atelier-zero-dechet-produits-menagers/
LOCATION:Nature 18\, Local associatif des Merlattes 16 rue Henri Moissan\, Bourges\, 18000\, France
CATEGORIES:J'agis à la maison
END:VEVENT
END:VCALENDAR