BEGIN:VCALENDAR
VERSION:2.0
PRODID:-//Nature 18 - ECPv6.15.18//NONSGML v1.0//EN
CALSCALE:GREGORIAN
METHOD:PUBLISH
X-WR-CALNAME:Nature 18
X-ORIGINAL-URL:https://www.nature18.org
X-WR-CALDESC:Évènements pour Nature 18
REFRESH-INTERVAL;VALUE=DURATION:PT1H
X-Robots-Tag:noindex
X-PUBLISHED-TTL:PT1H
BEGIN:VTIMEZONE
TZID:UTC
BEGIN:STANDARD
TZOFFSETFROM:+0000
TZOFFSETTO:+0000
TZNAME:UTC
DTSTART:20250101T000000
END:STANDARD
END:VTIMEZONE
BEGIN:VEVENT
DTSTART;TZID=UTC:20260118T100000
DTEND;TZID=UTC:20260118T120000
DTSTAMP:20260421T100724
CREATED:20260107T091358Z
LAST-MODIFIED:20260107T092200Z
UID:1134-1768730400-1768737600@www.nature18.org
SUMMARY:Observation des oiseaux
DESCRIPTION:Équipé de jumelles et d’une longue-vue\, venez observer les oiseaux hivernants.Rendez-vous à 10h\, au parking ENS de l’étang du Puits à Argent-sur-Sauldre. \n\n\n\nCovoiturage possible au départ du local de l’association à 9h. \n\n\n\nRéservation (animation + covoiturage) obligatoire par téléphone au 02.48.70.76.26 ou par courriel à contact@nature18.org
URL:https://www.nature18.org/evenement/observation-des-oiseaux-14/
LOCATION:ENS de l'Etang du Puits à Argent-sur-Sauldre\, Aquaparc de l'étang du puits\, Argent-sur-Sauldre\, 18410\, France
CATEGORIES:Les oiseaux
END:VEVENT
END:VCALENDAR