BEGIN:VCALENDAR
VERSION:2.0
PRODID:-//Nature 18 - ECPv6.15.18//NONSGML v1.0//EN
CALSCALE:GREGORIAN
METHOD:PUBLISH
X-ORIGINAL-URL:https://www.nature18.org
X-WR-CALDESC:Évènements pour Nature 18
REFRESH-INTERVAL;VALUE=DURATION:PT1H
X-Robots-Tag:noindex
X-PUBLISHED-TTL:PT1H
BEGIN:VTIMEZONE
TZID:UTC
BEGIN:STANDARD
TZOFFSETFROM:+0000
TZOFFSETTO:+0000
TZNAME:UTC
DTSTART:20250101T000000
END:STANDARD
END:VTIMEZONE
BEGIN:VEVENT
DTSTART;TZID=UTC:20260207T173000
DTEND;TZID=UTC:20260207T193000
DTSTAMP:20260421T133148
CREATED:20260107T094459Z
LAST-MODIFIED:20260107T101540Z
UID:1141-1770485400-1770492600@www.nature18.org
SUMMARY:Conférence oiseaux du bâti
DESCRIPTION:Venez découvrir quels sont les oiseaux qui bâtissent leur nid chez vous et comprendre les enjeux de leur nidification.Rendez-vous à 17h30\, au parking de la mairie de Saint-Satur.Covoiturage au départ du local de l’association à 16h30. \n\n\n\nRéservation (animation + covoiturage) obligatoire par téléphone au 02.48.70.76.26 ou par courriel à contact@nature18.org
URL:https://www.nature18.org/evenement/1141/
LOCATION:Mairie de Saint-Satur\, 36 Rue du Commerce\, Saint-Satur\, 18300\, France
CATEGORIES:Je m'informe,Les oiseaux
END:VEVENT
END:VCALENDAR